BEGIN:VCALENDAR
VERSION:2.0
PRODID:-//Fundación Pilares - ECPv6.15.20//NONSGML v1.0//EN
CALSCALE:GREGORIAN
METHOD:PUBLISH
X-ORIGINAL-URL:https://www.fundacionpilares.org
X-WR-CALDESC:Eventos para Fundación Pilares
REFRESH-INTERVAL;VALUE=DURATION:PT1H
X-Robots-Tag:noindex
X-PUBLISHED-TTL:PT1H
BEGIN:VTIMEZONE
TZID:Europe/Madrid
BEGIN:DAYLIGHT
TZOFFSETFROM:+0100
TZOFFSETTO:+0200
TZNAME:CEST
DTSTART:20220327T010000
END:DAYLIGHT
BEGIN:STANDARD
TZOFFSETFROM:+0200
TZOFFSETTO:+0100
TZNAME:CET
DTSTART:20221030T010000
END:STANDARD
BEGIN:DAYLIGHT
TZOFFSETFROM:+0100
TZOFFSETTO:+0200
TZNAME:CEST
DTSTART:20230326T010000
END:DAYLIGHT
BEGIN:STANDARD
TZOFFSETFROM:+0200
TZOFFSETTO:+0100
TZNAME:CET
DTSTART:20231029T010000
END:STANDARD
BEGIN:DAYLIGHT
TZOFFSETFROM:+0100
TZOFFSETTO:+0200
TZNAME:CEST
DTSTART:20240331T010000
END:DAYLIGHT
BEGIN:STANDARD
TZOFFSETFROM:+0200
TZOFFSETTO:+0100
TZNAME:CET
DTSTART:20241027T010000
END:STANDARD
END:VTIMEZONE
BEGIN:VEVENT
DTSTART;TZID=Europe/Madrid:20230308T160000
DTEND;TZID=Europe/Madrid:20230308T190000
DTSTAMP:20260423T013439
CREATED:20230307T112950Z
LAST-MODIFIED:20230307T123743Z
UID:28239-1678291200-1678302000@www.fundacionpilares.org
SUMMARY:La Soledad y las Mujeres Mayores- Taller online
DESCRIPTION:¿Cómo podemos abordar el binomio soledad y mujer mayor? \n\n\nEl envejecimiento de la población es un hecho que viene generando mucho debate en las últimas décadas\, por su impacto en distintos ámbitos (social\, económico\, sanitario\, etc.). \nCada vez hay más personas mayores en nuestra sociedad y es indudable que la mayoría de ellas son mujeres. En general\, las mujeres viven más años que los hombres\, pero también están más expuestas a situaciones de mayor vulnerabilidad. Entre estas situaciones\, destaca la soledad no deseada\, un tema que nos preocupa por su complejidad y multidimensionalidad. \nEste taller-monográfico pretende tratar el tema de la soledad no deseada de las mujeres mayores\, a través de un enfoque eminentemente práctico\, buscando generar espacios de reflexión e intercambio que contribuyan a la construcción de nuevos abordajes. \nSe abordarán temáticas para comprender la realidad de las mujeres mayores que viven en soledad o que se encuentran en mayor riesgo de sentirse solas\, algunas de las herramientas para detectar la soledad\, así como posibilidades de intervención para paliar la soledad en diferentes entornos. \n\n\n\n\nImpartido por Mônica Donio Bellegade\, Dra. en Psicogerontología e Investigadora de Fundación Pilares \nFecha: 8 de marzo de 2023               Duración: 3 horas \nModalidad: Aula Virtual                    Horario: 16:00 a 19:00 \nPrecio: 25€ (IVA incluido)  descuentos del 50% para estudiantes y personas en situación de desempleo  (solicitar descuento)
URL:https://www.fundacionpilares.org/evento/la-soledad-y-las-mujeres-mayores-taller-online/
LOCATION:Online
CATEGORIES:Cursos,Escuela AICP Fundación Pilares,Fundación Pilares
ORGANIZER;CN="Escuela AICP Fundaci%C3%B3n Pilares":MAILTO:formacion@fundacionpilares.org
END:VEVENT
END:VCALENDAR