BEGIN:VCALENDAR
VERSION:2.0
PRODID:-//Fundación Pilares - ECPv6.15.20//NONSGML v1.0//EN
CALSCALE:GREGORIAN
METHOD:PUBLISH
X-WR-CALNAME:Fundación Pilares
X-ORIGINAL-URL:https://www.fundacionpilares.org
X-WR-CALDESC:Eventos para Fundación Pilares
REFRESH-INTERVAL;VALUE=DURATION:PT1H
X-Robots-Tag:noindex
X-PUBLISHED-TTL:PT1H
BEGIN:VTIMEZONE
TZID:Europe/Madrid
BEGIN:DAYLIGHT
TZOFFSETFROM:+0100
TZOFFSETTO:+0200
TZNAME:CEST
DTSTART:20210328T010000
END:DAYLIGHT
BEGIN:STANDARD
TZOFFSETFROM:+0200
TZOFFSETTO:+0100
TZNAME:CET
DTSTART:20211031T010000
END:STANDARD
BEGIN:DAYLIGHT
TZOFFSETFROM:+0100
TZOFFSETTO:+0200
TZNAME:CEST
DTSTART:20220327T010000
END:DAYLIGHT
BEGIN:STANDARD
TZOFFSETFROM:+0200
TZOFFSETTO:+0100
TZNAME:CET
DTSTART:20221030T010000
END:STANDARD
BEGIN:DAYLIGHT
TZOFFSETFROM:+0100
TZOFFSETTO:+0200
TZNAME:CEST
DTSTART:20230326T010000
END:DAYLIGHT
BEGIN:STANDARD
TZOFFSETFROM:+0200
TZOFFSETTO:+0100
TZNAME:CET
DTSTART:20231029T010000
END:STANDARD
END:VTIMEZONE
BEGIN:VEVENT
DTSTART;TZID=Europe/Madrid:20220504T080000
DTEND;TZID=Europe/Madrid:20220615T170000
DTSTAMP:20260425T183534
CREATED:20220422T082732Z
LAST-MODIFIED:20220609T121106Z
UID:24673-1651651200-1655312400@www.fundacionpilares.org
SUMMARY:Curso La Atención Centrada en la Persona con Demencia
DESCRIPTION:CURSO ATENCIÓN CENTRADA EN LA PERSONA CON DEMENCIA. Favoreciendo un entorno social propicio para las personas mayores con demencia \nEn la Atención Integral y Centrada en la Persona con demencia\, la realidad psico-afectiva y relacional juega un papel determinante a la hora de satisfacer sus necesidades desde una\nperspectiva integral. Entendiendo y extendiendo la esfera de oportunidades para mejorar las atenciones hacia lo ambiental – generando relaciones y entornos favorecedores- estaremos\nreforzando las capacidades y la propia dignidad de cada persona: reforzando la “condición de persona”. \nEn este curso aprenderemos a analizar para intervenir en la realidad social y ambiental\, de manera que los participantes sean capaces de implementar e incorporar los cambios necesarios\npara maximizar el bienestar y la autonomía de la persona en sus relaciones con otras personas y con el entorno. \nMás información: Escuela AICP de Fundación Pilares \n \nDescarga aquí el programa del curso \nCURSO COMPLETO. PLAZAS AGOTADAS  \nMás información de próximas convocatorias: formacion@fundacionpilares.org 
URL:https://www.fundacionpilares.org/evento/curso-la-atencion-centrada-en-la-persona-con-demencia/
LOCATION:Aula Virtual
CATEGORIES:Cursos,Escuela AICP Fundación Pilares,Fundación Pilares
ORGANIZER;CN="Escuela AICP Fundaci%C3%B3n Pilares":MAILTO:formacion@fundacionpilares.org
END:VEVENT
END:VCALENDAR